BEGIN:VCALENDAR
VERSION:2.0
PRODID:-//IAFR - ECPv6.15.20//NONSGML v1.0//EN
CALSCALE:GREGORIAN
METHOD:PUBLISH
X-ORIGINAL-URL:https://forensicradiography.com
X-WR-CALDESC:Events for IAFR
REFRESH-INTERVAL;VALUE=DURATION:PT1H
X-Robots-Tag:noindex
X-PUBLISHED-TTL:PT1H
BEGIN:VTIMEZONE
TZID:Australia/Melbourne
BEGIN:STANDARD
TZOFFSETFROM:+1100
TZOFFSETTO:+1000
TZNAME:AEST
DTSTART:20200404T160000
END:STANDARD
BEGIN:DAYLIGHT
TZOFFSETFROM:+1000
TZOFFSETTO:+1100
TZNAME:AEDT
DTSTART:20201003T160000
END:DAYLIGHT
BEGIN:STANDARD
TZOFFSETFROM:+1100
TZOFFSETTO:+1000
TZNAME:AEST
DTSTART:20210403T160000
END:STANDARD
BEGIN:DAYLIGHT
TZOFFSETFROM:+1000
TZOFFSETTO:+1100
TZNAME:AEDT
DTSTART:20211002T160000
END:DAYLIGHT
BEGIN:STANDARD
TZOFFSETFROM:+1100
TZOFFSETTO:+1000
TZNAME:AEST
DTSTART:20220402T160000
END:STANDARD
BEGIN:DAYLIGHT
TZOFFSETFROM:+1000
TZOFFSETTO:+1100
TZNAME:AEDT
DTSTART:20221001T160000
END:DAYLIGHT
END:VTIMEZONE
BEGIN:VEVENT
DTSTART;TZID=Australia/Melbourne:20210225T200000
DTEND;TZID=Australia/Melbourne:20210225T213000
DTSTAMP:20260425T120349
CREATED:20210818T032241Z
LAST-MODIFIED:20210903T065619Z
UID:1751-1614283200-1614288600@forensicradiography.com
SUMMARY:ANZ Branch Webinar: Post Mortem CT Angiography
DESCRIPTION:Presenter: Claire Robinson \nOverview:  This webinar on Post Mortem CT Angiography is presented by Claire Robinson\, an Advanced Practitioner in post-mortem imaging in Leicester\, UK. Claire has a wealth of experience in post mortem coronary angiography techniques as well as participating in whole body angiography research and we are delighted to have her share her wealth of knowledge on this topic with us. \nIAFR Members $0\nASMIRT/NZIMRT Members $10\nNon-members $20 \nTo register for this webinar\, please click here or use the link above.
URL:https://forensicradiography.com/index.php/event/anz-branch-webinar-post-mortem-ct-angiography/
LOCATION:Online
CATEGORIES:ANZ Branch
ATTACH;FMTTYPE=image/jpeg:https://forensicradiography.com/wp-content/uploads/2021/03/IAFR-badge.jpg
END:VEVENT
END:VCALENDAR