BEGIN:VCALENDAR
VERSION:2.0
PRODID:-//IAFR - ECPv6.15.20//NONSGML v1.0//EN
CALSCALE:GREGORIAN
METHOD:PUBLISH
X-WR-CALNAME:IAFR
X-ORIGINAL-URL:https://forensicradiography.com
X-WR-CALDESC:Events for IAFR
REFRESH-INTERVAL;VALUE=DURATION:PT1H
X-Robots-Tag:noindex
X-PUBLISHED-TTL:PT1H
BEGIN:VTIMEZONE
TZID:Australia/Melbourne
BEGIN:STANDARD
TZOFFSETFROM:+1100
TZOFFSETTO:+1000
TZNAME:AEST
DTSTART:20200404T160000
END:STANDARD
BEGIN:DAYLIGHT
TZOFFSETFROM:+1000
TZOFFSETTO:+1100
TZNAME:AEDT
DTSTART:20201003T160000
END:DAYLIGHT
BEGIN:STANDARD
TZOFFSETFROM:+1100
TZOFFSETTO:+1000
TZNAME:AEST
DTSTART:20210403T160000
END:STANDARD
BEGIN:DAYLIGHT
TZOFFSETFROM:+1000
TZOFFSETTO:+1100
TZNAME:AEDT
DTSTART:20211002T160000
END:DAYLIGHT
BEGIN:STANDARD
TZOFFSETFROM:+1100
TZOFFSETTO:+1000
TZNAME:AEST
DTSTART:20220402T160000
END:STANDARD
BEGIN:DAYLIGHT
TZOFFSETFROM:+1000
TZOFFSETTO:+1100
TZNAME:AEDT
DTSTART:20221001T160000
END:DAYLIGHT
END:VTIMEZONE
BEGIN:VEVENT
DTSTART;TZID=Australia/Melbourne:20210630T200000
DTEND;TZID=Australia/Melbourne:20210630T210000
DTSTAMP:20260425T024209
CREATED:20210818T030523Z
LAST-MODIFIED:20210903T065619Z
UID:1740-1625083200-1625086800@forensicradiography.com
SUMMARY:ANZ Branch Webinar: Introduction to Forensic Anthropology and Archaeology: Context for Radiographers
DESCRIPTION:The ANZ Branch of the International Association of Forensic Radiographers are proud to present two online webinars on Forensic Anthropology and Archaeology in June and July. Forensic anthropology and archaeology are fields which run closely alongside forensic imaging but are often misunderstood or overlooked when we think of the radiography world. While Forensic anthropologists and archaeologists can often be found working synchronously to search for\, recover and identify human remains\, there are very different objectives and skills involved. \nThese webinars will help forensic radiographers understand more about forensic anthropology and forensic archaeology\, explain some of the techniques used and discuss how imaging is playing a role in these fields. We also introduce our wonderful speakers Nick and Donna\, who both have a wealth of experience in the field of archaeology and anthropology and will share their work and experiences with us. \nJoin us on 30th June 8pm AEST with Dr Nicholas Marquez-Grant for an Introduction to Forensic Anthropology and Archaeology: Context for Radiographers. A lecturer at Cranfield University since 2013\, Nicholas has wide ranging experience as a forensic archaeologist working with human skeletal remains from Prehistoric to early 20th century sites in the UK\, Spain\, France and Portugal. From 2008 to 2013 Nicholas worked full time as a forensic anthropologist and archaeologist for two major forensic science providers in the UK – LGC Forensics and Cellmark Forensic Services – attending crime scenes and mortuaries for a number of police forces in England and Wales. \nRegistration is free for IAFR members\, $10 for ASMIRT/NZMIRT members and $20 for non-members. \nREGISTRATIONS FOR JUNE WEBINAR OPEN NOW VIA https://www.trybooking.com/BRJMM \nCPD certificates of attendance will only be issued to those who attend the live webinar. \nParticipants will receive a link to view the recording after the event if they are unable to make the live broadcast.
URL:https://forensicradiography.com/index.php/event/anz-branch-webinar-introduction-to-forensic-anthropology-and-archaeology-context-for-radiographers/
LOCATION:Online
CATEGORIES:ANZ Branch
ATTACH;FMTTYPE=image/jpeg:https://forensicradiography.com/wp-content/uploads/2021/03/IAFR-badge.jpg
END:VEVENT
END:VCALENDAR