BEGIN:VCALENDAR
VERSION:2.0
PRODID:-//IAFR - ECPv6.15.20//NONSGML v1.0//EN
CALSCALE:GREGORIAN
METHOD:PUBLISH
X-ORIGINAL-URL:https://forensicradiography.com
X-WR-CALDESC:Events for IAFR
REFRESH-INTERVAL;VALUE=DURATION:PT1H
X-Robots-Tag:noindex
X-PUBLISHED-TTL:PT1H
BEGIN:VTIMEZONE
TZID:Europe/London
BEGIN:DAYLIGHT
TZOFFSETFROM:+0000
TZOFFSETTO:+0100
TZNAME:BST
DTSTART:20200329T010000
END:DAYLIGHT
BEGIN:STANDARD
TZOFFSETFROM:+0100
TZOFFSETTO:+0000
TZNAME:GMT
DTSTART:20201025T010000
END:STANDARD
BEGIN:DAYLIGHT
TZOFFSETFROM:+0000
TZOFFSETTO:+0100
TZNAME:BST
DTSTART:20210328T010000
END:DAYLIGHT
BEGIN:STANDARD
TZOFFSETFROM:+0100
TZOFFSETTO:+0000
TZNAME:GMT
DTSTART:20211031T010000
END:STANDARD
BEGIN:DAYLIGHT
TZOFFSETFROM:+0000
TZOFFSETTO:+0100
TZNAME:BST
DTSTART:20220327T010000
END:DAYLIGHT
BEGIN:STANDARD
TZOFFSETFROM:+0100
TZOFFSETTO:+0000
TZNAME:GMT
DTSTART:20221030T010000
END:STANDARD
END:VTIMEZONE
BEGIN:VTIMEZONE
TZID:Australia/Melbourne
BEGIN:STANDARD
TZOFFSETFROM:+1100
TZOFFSETTO:+1000
TZNAME:AEST
DTSTART:20200404T160000
END:STANDARD
BEGIN:DAYLIGHT
TZOFFSETFROM:+1000
TZOFFSETTO:+1100
TZNAME:AEDT
DTSTART:20201003T160000
END:DAYLIGHT
BEGIN:STANDARD
TZOFFSETFROM:+1100
TZOFFSETTO:+1000
TZNAME:AEST
DTSTART:20210403T160000
END:STANDARD
BEGIN:DAYLIGHT
TZOFFSETFROM:+1000
TZOFFSETTO:+1100
TZNAME:AEDT
DTSTART:20211002T160000
END:DAYLIGHT
BEGIN:STANDARD
TZOFFSETFROM:+1100
TZOFFSETTO:+1000
TZNAME:AEST
DTSTART:20220402T160000
END:STANDARD
BEGIN:DAYLIGHT
TZOFFSETFROM:+1000
TZOFFSETTO:+1100
TZNAME:AEDT
DTSTART:20221001T160000
END:DAYLIGHT
END:VTIMEZONE
BEGIN:VEVENT
DTSTART;TZID=Europe/London:20210904T120000
DTEND;TZID=Europe/London:20210904T140000
DTSTAMP:20260422T065645
CREATED:20210903T100330Z
LAST-MODIFIED:20210903T100550Z
UID:2180-1630756800-1630764000@forensicradiography.com
SUMMARY:IAFR AGM & Webinar
DESCRIPTION:The Annual General Meeting of the IAFR will be held online on September 4th at 12:00 BTS/GMT+1. \nAfter the AGM there will be a “Ask the Experts” webinar\, where international group of experts offer their insights to forensic imaging. \nSpeakers at the webinar:Prof. Michael Thali (Switzerland)Prof. Rick van Rijn (The Netherlands)Amy-Lee Brookes (UK)Jeroen Kroll (The Netherlands)Tony Buxton (Australia) \n12:00 IAFR AGM~13:00 “Ask the Experts” webinar \nThe AGM is for all IAFR members and more detailed information about joining will be sent by email. The webinar is available for all. \nNB! The starting time of the webinar is a rough estimation\, because we will start after the AGM. \nRegistration fee for the webinar:IAFR Members £0Non-members £5 \nRegistration for the webinar:IAFR Members Non-members
URL:https://forensicradiography.com/index.php/event/iafr-agm-webinar/
LOCATION:Online
CATEGORIES:IAFR
ATTACH;FMTTYPE=image/jpeg:https://forensicradiography.com/wp-content/uploads/2021/03/IAFR-badge.jpg
END:VEVENT
BEGIN:VEVENT
DTSTART;TZID=Australia/Melbourne:20210922T190000
DTEND;TZID=Australia/Melbourne:20210922T200000
DTSTAMP:20260422T065645
CREATED:20210820T060712Z
LAST-MODIFIED:20210903T065618Z
UID:1925-1632337200-1632340800@forensicradiography.com
SUMMARY:ANZ Branch AGM
DESCRIPTION:IAFR ANZ Members only! \nPlease join us for our AGM on Wednesday September 22 at 7pm AEST. Members will receive an email with an Adobe Connect link during the month. We also have places available in the committee so if you would like to join us please use the nomination form and get in touch with anz.iafr@gmail.com should you have any questions or need any help with your nomination.
URL:https://forensicradiography.com/index.php/event/anz-branch-agm/
LOCATION:Online
CATEGORIES:ANZ Branch
ATTACH;FMTTYPE=image/jpeg:https://forensicradiography.com/wp-content/uploads/2021/08/ANZ-AGM-2021.jpg
END:VEVENT
END:VCALENDAR